Package: pmm Version: 1.40.0 Command: /home/biocbuild/R/R/bin/R CMD INSTALL pmm StartedAt: 2025-10-06 20:21:55 -0000 (Mon, 06 Oct 2025) EndedAt: 2025-10-06 20:22:11 -0000 (Mon, 06 Oct 2025) EllapsedTime: 16.3 seconds RetCode: 0 Status: OK