Package: pmm Version: 1.40.0 Command: /home/biocbuild/R/R/bin/R CMD build --keep-empty-dirs --no-resave-data pmm StartedAt: 2025-10-07 03:37:03 -0000 (Tue, 07 Oct 2025) EndedAt: 2025-10-07 03:37:36 -0000 (Tue, 07 Oct 2025) EllapsedTime: 33.0 seconds RetCode: 0 Status: OK PackageFile: pmm_1.40.0.tar.gz PackageFileSize: 765.2 KiB