Package: pmm Version: 1.40.0 Command: /Library/Frameworks/R.framework/Resources/bin/R CMD INSTALL pmm StartedAt: 2025-10-13 15:30:35 -0400 (Mon, 13 Oct 2025) EndedAt: 2025-10-13 15:30:51 -0400 (Mon, 13 Oct 2025) EllapsedTime: 15.7 seconds RetCode: 0 Status: OK