Package: pmm Version: 1.40.0 Command: /Library/Frameworks/R.framework/Resources/bin/R CMD build --keep-empty-dirs --no-resave-data pmm StartedAt: 2025-10-14 06:41:52 -0400 (Tue, 14 Oct 2025) EndedAt: 2025-10-14 06:42:30 -0400 (Tue, 14 Oct 2025) EllapsedTime: 37.7 seconds RetCode: 0 Status: OK PackageFile: pmm_1.40.0.tar.gz PackageFileSize: 776.6 KiB