Package: pmm Version: 1.40.0 Command: rm -rf pmm.buildbin-libdir && mkdir pmm.buildbin-libdir && /Users/biocbuild/BBS/utils/build-universal.sh pmm_1.40.0.tar.gz /Library/Frameworks/R.framework/Resources/bin/R pmm.buildbin-libdir StartedAt: 2025-10-15 19:48:59 -0400 (Wed, 15 Oct 2025) EndedAt: 2025-10-15 19:49:08 -0400 (Wed, 15 Oct 2025) EllapsedTime: 8.9 seconds RetCode: 0 Status: OK PackageFile: pmm_1.40.0.tgz PackageFileSize: 810.2 KiB