Package: plyxp Version: 1.4.3 Command: /home/biocbuild/bbs-3.22-bioc/R/bin/R CMD INSTALL plyxp StartedAt: 2025-11-11 15:21:45 -0500 (Tue, 11 Nov 2025) EndedAt: 2025-11-11 15:22:11 -0500 (Tue, 11 Nov 2025) EllapsedTime: 26.3 seconds RetCode: 0 Status: OK