Package: plyxp Version: 1.4.3 Command: /home/biocbuild/bbs-3.22-bioc/R/bin/R CMD build --keep-empty-dirs --no-resave-data --md5 plyxp StartedAt: 2025-11-11 19:25:57 -0500 (Tue, 11 Nov 2025) EndedAt: 2025-11-11 19:26:39 -0500 (Tue, 11 Nov 2025) EllapsedTime: 42.0 seconds RetCode: 0 Status: OK PackageFile: plyxp_1.4.3.tar.gz PackageFileSize: 1.187 MiB