Package: plyranges Version: 1.30.1 Command: /home/biocbuild/bbs-3.22-bioc/R/bin/R CMD check --install=check:plyranges.install-out.txt --library=/home/biocbuild/bbs-3.22-bioc/R/site-library --timings plyranges_1.30.1.tar.gz StartedAt: 2025-11-15 03:03:24 -0500 (Sat, 15 Nov 2025) EndedAt: 2025-11-15 03:08:26 -0500 (Sat, 15 Nov 2025) EllapsedTime: 302.3 seconds RetCode: 0 Status: OK CheckDir: plyranges.Rcheck Warnings: 0