Package: plyranges Version: 1.30.0 Command: /home/biocbuild/bbs-3.22-bioc/R/bin/R CMD build --keep-empty-dirs --no-resave-data --md5 plyranges StartedAt: 2025-11-11 19:25:57 -0500 (Tue, 11 Nov 2025) EndedAt: 2025-11-11 19:26:49 -0500 (Tue, 11 Nov 2025) EllapsedTime: 52.0 seconds RetCode: 0 Status: OK PackageFile: plyranges_1.30.0.tar.gz PackageFileSize: 1.296 MiB