Package: plyranges Version: 1.30.0 Command: /Library/Frameworks/R.framework/Resources/bin/R CMD build --keep-empty-dirs --no-resave-data plyranges StartedAt: 2025-11-03 18:15:55 -0500 (Mon, 03 Nov 2025) EndedAt: 2025-11-03 18:16:58 -0500 (Mon, 03 Nov 2025) EllapsedTime: 62.7 seconds RetCode: 0 Status: OK PackageFile: plyranges_1.30.0.tar.gz PackageFileSize: 1.244 MiB