Package: plyranges Version: 1.30.0 Command: rm -rf plyranges.buildbin-libdir && mkdir plyranges.buildbin-libdir && /Users/biocbuild/BBS/utils/build-universal.sh plyranges_1.30.0.tar.gz /Library/Frameworks/R.framework/Resources/bin/R plyranges.buildbin-libdir StartedAt: 2025-11-04 01:56:09 -0500 (Tue, 04 Nov 2025) EndedAt: 2025-11-04 01:57:00 -0500 (Tue, 04 Nov 2025) EllapsedTime: 50.9 seconds RetCode: 0 Status: OK PackageFile: plyranges_1.30.0.tgz PackageFileSize: 1.553 MiB