Package: plyranges Version: 1.28.0 Command: /home/biocbuild/R/R/bin/R CMD INSTALL plyranges StartedAt: 2025-10-13 20:48:07 -0000 (Mon, 13 Oct 2025) EndedAt: 2025-10-13 20:48:57 -0000 (Mon, 13 Oct 2025) EllapsedTime: 50.2 seconds RetCode: 0 Status: OK