Package: plyranges Version: 1.28.0 Command: /home/biocbuild/R/R/bin/R CMD build --keep-empty-dirs --no-resave-data plyranges StartedAt: 2025-10-14 03:34:30 -0000 (Tue, 14 Oct 2025) EndedAt: 2025-10-14 03:35:47 -0000 (Tue, 14 Oct 2025) EllapsedTime: 77.0 seconds RetCode: 0 Status: OK PackageFile: plyranges_1.28.0.tar.gz PackageFileSize: 1.305 MiB