Package: plyinteractions Version: 1.8.0 Command: /home/biocbuild/bbs-3.22-bioc/R/bin/R CMD build --keep-empty-dirs --no-resave-data --md5 plyinteractions StartedAt: 2025-11-14 19:25:48 -0500 (Fri, 14 Nov 2025) EndedAt: 2025-11-14 19:36:21 -0500 (Fri, 14 Nov 2025) EllapsedTime: 633.5 seconds RetCode: 0 Status: OK PackageFile: plyinteractions_1.8.0.tar.gz PackageFileSize: 3.689 MiB