Package: plotgardener Version: 1.16.0 Command: /home/biocbuild/R/R/bin/R CMD INSTALL plotgardener StartedAt: 2025-11-13 21:42:18 -0000 (Thu, 13 Nov 2025) EndedAt: 2025-11-13 21:43:26 -0000 (Thu, 13 Nov 2025) EllapsedTime: 68.6 seconds RetCode: 0 Status: OK