Package: plotgardener Version: 1.16.0 Command: /home/biocbuild/R/R/bin/R CMD build --keep-empty-dirs --no-resave-data plotgardener StartedAt: 2025-11-14 04:11:15 -0000 (Fri, 14 Nov 2025) EndedAt: 2025-11-14 04:12:49 -0000 (Fri, 14 Nov 2025) EllapsedTime: 94.0 seconds RetCode: 0 Status: OK PackageFile: plotgardener_1.16.0.tar.gz PackageFileSize: 2.524 MiB