Package: plotgardener Version: 1.16.0 Command: /home/biocbuild/bbs-3.22-bioc/R/bin/R CMD INSTALL plotgardener StartedAt: 2025-11-11 15:37:54 -0500 (Tue, 11 Nov 2025) EndedAt: 2025-11-11 15:38:44 -0500 (Tue, 11 Nov 2025) EllapsedTime: 50.5 seconds RetCode: 0 Status: OK