Package: plotgardener Version: 1.16.0 Command: /home/biocbuild/bbs-3.22-bioc/R/bin/R CMD check --install=check:plotgardener.install-out.txt --library=/home/biocbuild/bbs-3.22-bioc/R/site-library --timings plotgardener_1.16.0.tar.gz StartedAt: 2025-11-12 02:46:55 -0500 (Wed, 12 Nov 2025) EndedAt: 2025-11-12 02:55:38 -0500 (Wed, 12 Nov 2025) EllapsedTime: 522.5 seconds RetCode: 0 Status: OK CheckDir: plotgardener.Rcheck Warnings: 0