Package: plotgardener Version: 1.16.0 Command: /home/biocbuild/bbs-3.22-bioc/R/bin/R CMD build --keep-empty-dirs --no-resave-data --md5 plotgardener StartedAt: 2025-11-11 19:25:34 -0500 (Tue, 11 Nov 2025) EndedAt: 2025-11-11 19:26:42 -0500 (Tue, 11 Nov 2025) EllapsedTime: 68.1 seconds RetCode: 0 Status: OK PackageFile: plotgardener_1.16.0.tar.gz PackageFileSize: 2.739 MiB