Package: plotgardener Version: 1.14.0 Command: /Library/Frameworks/R.framework/Resources/bin/R CMD INSTALL plotgardener StartedAt: 2025-10-13 16:01:24 -0400 (Mon, 13 Oct 2025) EndedAt: 2025-10-13 16:03:11 -0400 (Mon, 13 Oct 2025) EllapsedTime: 107.1 seconds RetCode: 0 Status: OK