Package: plotgardener Version: 1.14.0 Command: /Library/Frameworks/R.framework/Resources/bin/R CMD INSTALL plotgardener StartedAt: 2025-09-25 16:57:00 -0400 (Thu, 25 Sep 2025) EndedAt: 2025-09-25 16:58:00 -0400 (Thu, 25 Sep 2025) EllapsedTime: 59.4 seconds RetCode: 0 Status: OK