Package: plotgardener Version: 1.14.0 Command: /Library/Frameworks/R.framework/Resources/bin/R CMD build --keep-empty-dirs --no-resave-data plotgardener StartedAt: 2025-09-26 06:29:17 -0400 (Fri, 26 Sep 2025) EndedAt: 2025-09-26 06:30:45 -0400 (Fri, 26 Sep 2025) EllapsedTime: 88.1 seconds RetCode: 0 Status: OK PackageFile: plotgardener_1.14.0.tar.gz PackageFileSize: 2.848 MiB