Package: plotgardener Version: 1.14.0 Command: rm -rf plotgardener.buildbin-libdir && mkdir plotgardener.buildbin-libdir && /Users/biocbuild/BBS/utils/build-universal.sh plotgardener_1.14.0.tar.gz /Library/Frameworks/R.framework/Resources/bin/R plotgardener.buildbin-libdir StartedAt: 2025-09-27 18:47:39 -0400 (Sat, 27 Sep 2025) EndedAt: 2025-09-27 18:48:44 -0400 (Sat, 27 Sep 2025) EllapsedTime: 65.0 seconds RetCode: 0 Status: OK PackageFile: plotgardener_1.14.0.tgz PackageFileSize: 3.63 MiB