Package: plotGrouper Version: 1.28.0 Command: /home/biocbuild/R/R/bin/R CMD build --keep-empty-dirs --no-resave-data plotGrouper StartedAt: 2025-11-11 04:08:04 -0000 (Tue, 11 Nov 2025) EndedAt: 2025-11-11 04:08:16 -0000 (Tue, 11 Nov 2025) EllapsedTime: 12.0 seconds RetCode: 0 Status: OK PackageFile: plotGrouper_1.28.0.tar.gz PackageFileSize: 704.7 KiB