Package: plotGrouper Version: 1.26.0 Command: chmod a+r plotGrouper -R && E:\biocbuild\bbs-3.21-bioc\R\bin\R.exe CMD build --keep-empty-dirs --no-resave-data plotGrouper StartedAt: 2025-08-14 21:19:52 -0400 (Thu, 14 Aug 2025) EndedAt: 2025-08-14 21:20:06 -0400 (Thu, 14 Aug 2025) EllapsedTime: 14.0 seconds RetCode: 0 Status: OK PackageFile: plotGrouper_1.26.0.tar.gz PackageFileSize: 704.6 KiB