Package: plotGrouper Version: 1.26.0 Command: rm -rf plotGrouper.buildbin-libdir && mkdir plotGrouper.buildbin-libdir && E:\biocbuild\bbs-3.21-bioc\R\bin\R.exe CMD INSTALL --build --library=plotGrouper.buildbin-libdir plotGrouper_1.26.0.tar.gz StartedAt: 2025-08-15 09:57:28 -0400 (Fri, 15 Aug 2025) EndedAt: 2025-08-15 09:57:45 -0400 (Fri, 15 Aug 2025) EllapsedTime: 17.0 seconds RetCode: 0 Status: OK PackageFile: plotGrouper_1.26.0.zip PackageFileSize: 371.6 KiB