Package: plotGrouper Version: 1.28.0 Command: /home/biocbuild/bbs-3.22-bioc/R/bin/R CMD check --install=check:plotGrouper.install-out.txt --library=/home/biocbuild/bbs-3.22-bioc/R/site-library --timings plotGrouper_1.28.0.tar.gz StartedAt: 2025-11-12 02:47:06 -0500 (Wed, 12 Nov 2025) EndedAt: 2025-11-12 02:47:59 -0500 (Wed, 12 Nov 2025) EllapsedTime: 53.1 seconds RetCode: 0 Status: OK CheckDir: plotGrouper.Rcheck Warnings: 0