Package: plotGrouper Version: 1.26.0 Command: /Library/Frameworks/R.framework/Resources/bin/R CMD INSTALL plotGrouper StartedAt: 2025-09-25 15:16:07 -0400 (Thu, 25 Sep 2025) EndedAt: 2025-09-25 15:16:39 -0400 (Thu, 25 Sep 2025) EllapsedTime: 32.9 seconds RetCode: 0 Status: OK