Package: plotGrouper Version: 1.26.0 Command: /home/biocbuild/R/R/bin/R CMD check --install=check:plotGrouper.install-out.txt --library=/home/biocbuild/R/R/site-library --no-vignettes --timings plotGrouper_1.26.0.tar.gz StartedAt: 2025-10-14 12:36:08 -0000 (Tue, 14 Oct 2025) EndedAt: 2025-10-14 12:37:17 -0000 (Tue, 14 Oct 2025) EllapsedTime: 69.1 seconds RetCode: 0 Status: OK CheckDir: plotGrouper.Rcheck Warnings: 0