Package: plotGrouper Version: 1.28.0 Command: /Library/Frameworks/R.framework/Resources/bin/R CMD check --install=check:plotGrouper.install-out.txt --library=/Library/Frameworks/R.framework/Resources/library --no-vignettes --timings plotGrouper_1.28.0.tar.gz StartedAt: 2025-10-31 21:25:23 -0400 (Fri, 31 Oct 2025) EndedAt: 2025-10-31 21:25:47 -0400 (Fri, 31 Oct 2025) EllapsedTime: 24.3 seconds RetCode: 0 Status: OK CheckDir: plotGrouper.Rcheck Warnings: 0