Package: plier Version: 1.80.0 Command: /home/biocbuild/bbs-3.22-bioc/R/bin/R CMD INSTALL plier StartedAt: 2025-11-11 15:16:59 -0500 (Tue, 11 Nov 2025) EndedAt: 2025-11-11 15:17:04 -0500 (Tue, 11 Nov 2025) EllapsedTime: 5.1 seconds RetCode: 0 Status: OK