Package: plier Version: 1.80.0 Command: /home/biocbuild/bbs-3.22-bioc/R/bin/R CMD build --keep-empty-dirs --no-resave-data --md5 plier StartedAt: 2025-11-11 19:25:33 -0500 (Tue, 11 Nov 2025) EndedAt: 2025-11-11 19:25:34 -0500 (Tue, 11 Nov 2025) EllapsedTime: 1.0 seconds RetCode: 0 Status: OK PackageFile: plier_1.80.0.tar.gz PackageFileSize: 20.82 KiB