Package: plier Version: 1.80.0 Command: /Library/Frameworks/R.framework/Resources/bin/R CMD INSTALL plier StartedAt: 2025-11-10 15:06:59 -0500 (Mon, 10 Nov 2025) EndedAt: 2025-11-10 15:07:02 -0500 (Mon, 10 Nov 2025) EllapsedTime: 2.6 seconds RetCode: 0 Status: OK