Package: plier Version: 1.80.0 Command: rm -rf plier.buildbin-libdir && mkdir plier.buildbin-libdir && /Users/biocbuild/BBS/utils/build-universal.sh plier_1.80.0.tar.gz /Library/Frameworks/R.framework/Resources/bin/R plier.buildbin-libdir StartedAt: 2025-11-10 23:31:17 -0500 (Mon, 10 Nov 2025) EndedAt: 2025-11-10 23:31:20 -0500 (Mon, 10 Nov 2025) EllapsedTime: 3.1 seconds RetCode: 0 Status: OK PackageFile: plier_1.80.0.tgz PackageFileSize: 40.23 KiB