Package: plgem Version: 1.82.0 Command: /home/biocbuild/bbs-3.22-bioc/R/bin/R CMD INSTALL plgem StartedAt: 2025-11-11 15:42:56 -0500 (Tue, 11 Nov 2025) EndedAt: 2025-11-11 15:42:59 -0500 (Tue, 11 Nov 2025) EllapsedTime: 2.9 seconds RetCode: 0 Status: OK