Package: plgem Version: 1.82.0 Command: /home/biocbuild/bbs-3.22-bioc/R/bin/R CMD build --keep-empty-dirs --no-resave-data --md5 plgem StartedAt: 2025-11-11 19:25:26 -0500 (Tue, 11 Nov 2025) EndedAt: 2025-11-11 19:25:40 -0500 (Tue, 11 Nov 2025) EllapsedTime: 14.0 seconds RetCode: 0 Status: OK PackageFile: plgem_1.82.0.tar.gz PackageFileSize: 1.037 MiB