Package: plgem Version: 1.80.0 Command: /home/biocbuild/R/R/bin/R CMD build --keep-empty-dirs --no-resave-data plgem StartedAt: 2025-10-14 03:33:51 -0000 (Tue, 14 Oct 2025) EndedAt: 2025-10-14 03:34:13 -0000 (Tue, 14 Oct 2025) EllapsedTime: 22.0 seconds RetCode: 0 Status: OK PackageFile: plgem_1.80.0.tar.gz PackageFileSize: 1.03 MiB