Package: plasmut Version: 1.8.0 Command: /home/biocbuild/bbs-3.22-bioc/R/bin/R CMD INSTALL plasmut StartedAt: 2025-11-11 15:14:07 -0500 (Tue, 11 Nov 2025) EndedAt: 2025-11-11 15:14:18 -0500 (Tue, 11 Nov 2025) EllapsedTime: 10.6 seconds RetCode: 0 Status: OK