Package: plasmut Version: 1.8.0 Command: /home/biocbuild/bbs-3.22-bioc/R/bin/R CMD build --keep-empty-dirs --no-resave-data --md5 plasmut StartedAt: 2025-11-11 19:25:00 -0500 (Tue, 11 Nov 2025) EndedAt: 2025-11-11 19:27:15 -0500 (Tue, 11 Nov 2025) EllapsedTime: 135.1 seconds RetCode: 0 Status: OK PackageFile: plasmut_1.8.0.tar.gz PackageFileSize: 362.9 KiB