Package: plasmut Version: 1.6.0 Command: /home/biocbuild/bbs-3.21-bioc/R/bin/R CMD build --keep-empty-dirs --no-resave-data plasmut StartedAt: 2025-10-15 19:09:43 -0400 (Wed, 15 Oct 2025) EndedAt: 2025-10-15 19:11:58 -0400 (Wed, 15 Oct 2025) EllapsedTime: 135.2 seconds RetCode: 0 Status: OK PackageFile: plasmut_1.6.0.tar.gz PackageFileSize: 366.8 KiB