Package: plasmut Version: 1.6.0 Command: /home/biocbuild/R/R/bin/R CMD build --keep-empty-dirs --no-resave-data plasmut StartedAt: 2025-10-03 03:32:09 -0000 (Fri, 03 Oct 2025) EndedAt: 2025-10-03 03:35:13 -0000 (Fri, 03 Oct 2025) EllapsedTime: 184.1 seconds RetCode: 0 Status: OK PackageFile: plasmut_1.6.0.tar.gz PackageFileSize: 351.9 KiB