Package: plasmut Version: 1.8.0 Command: /Library/Frameworks/R.framework/Resources/bin/R CMD INSTALL plasmut StartedAt: 2025-11-10 15:05:38 -0500 (Mon, 10 Nov 2025) EndedAt: 2025-11-10 15:05:42 -0500 (Mon, 10 Nov 2025) EllapsedTime: 4.6 seconds RetCode: 0 Status: OK