Package: plasmut Version: 1.8.0 Command: /Library/Frameworks/R.framework/Resources/bin/R CMD build --keep-empty-dirs --no-resave-data plasmut StartedAt: 2025-11-10 17:22:03 -0500 (Mon, 10 Nov 2025) EndedAt: 2025-11-10 17:23:03 -0500 (Mon, 10 Nov 2025) EllapsedTime: 60.7 seconds RetCode: 0 Status: OK PackageFile: plasmut_1.8.0.tar.gz PackageFileSize: 345.5 KiB