Package: plasmut Version: 1.6.0 Command: /Library/Frameworks/R.framework/Resources/bin/R CMD INSTALL plasmut StartedAt: 2025-10-13 15:28:01 -0400 (Mon, 13 Oct 2025) EndedAt: 2025-10-13 15:28:08 -0400 (Mon, 13 Oct 2025) EllapsedTime: 6.4 seconds RetCode: 0 Status: OK