Package: plasmut Version: 1.6.0 Command: rm -rf plasmut.buildbin-libdir && mkdir plasmut.buildbin-libdir && /Users/biocbuild/BBS/utils/build-universal.sh plasmut_1.6.0.tar.gz /Library/Frameworks/R.framework/Resources/bin/R plasmut.buildbin-libdir StartedAt: 2025-10-15 19:48:05 -0400 (Wed, 15 Oct 2025) EndedAt: 2025-10-15 19:48:11 -0400 (Wed, 15 Oct 2025) EllapsedTime: 5.5 seconds RetCode: 0 Status: OK PackageFile: plasmut_1.6.0.tgz PackageFileSize: 361.8 KiB