Package: planttfhunter Version: 1.10.0 Command: /home/biocbuild/bbs-3.22-bioc/R/bin/R CMD INSTALL planttfhunter StartedAt: 2025-11-16 15:58:30 -0500 (Sun, 16 Nov 2025) EndedAt: 2025-11-16 15:58:56 -0500 (Sun, 16 Nov 2025) EllapsedTime: 26.3 seconds RetCode: 0 Status: OK