Package: planttfhunter Version: 1.10.0 Command: /home/biocbuild/bbs-3.22-bioc/R/bin/R CMD build --keep-empty-dirs --no-resave-data --md5 planttfhunter StartedAt: 2025-11-16 19:26:40 -0500 (Sun, 16 Nov 2025) EndedAt: 2025-11-16 19:27:14 -0500 (Sun, 16 Nov 2025) EllapsedTime: 34.0 seconds RetCode: 0 Status: OK PackageFile: planttfhunter_1.10.0.tar.gz PackageFileSize: 993.1 KiB