Package: planet Version: 1.18.0 Command: /home/biocbuild/bbs-3.22-bioc/R/bin/R CMD INSTALL planet StartedAt: 2025-11-11 15:13:36 -0500 (Tue, 11 Nov 2025) EndedAt: 2025-11-11 15:13:46 -0500 (Tue, 11 Nov 2025) EllapsedTime: 10.1 seconds RetCode: 0 Status: OK