Package: planet Version: 1.16.0 Command: /home/biocbuild/bbs-3.21-bioc/R/bin/R CMD INSTALL planet StartedAt: 2025-10-15 15:08:47 -0400 (Wed, 15 Oct 2025) EndedAt: 2025-10-15 15:08:53 -0400 (Wed, 15 Oct 2025) EllapsedTime: 5.7 seconds RetCode: 0 Status: OK