Package: planet Version: 1.16.0 Command: /home/biocbuild/bbs-3.21-bioc/R/bin/R CMD build --keep-empty-dirs --no-resave-data planet StartedAt: 2025-10-15 19:09:36 -0400 (Wed, 15 Oct 2025) EndedAt: 2025-10-15 19:10:32 -0400 (Wed, 15 Oct 2025) EllapsedTime: 56.0 seconds RetCode: 0 Status: OK PackageFile: planet_1.16.0.tar.gz PackageFileSize: 2.823 MiB